Package: HTSeqGenie Version: 4.36.0 Command: /home/biocbuild/bbs-3.20-bioc/R/bin/R CMD INSTALL HTSeqGenie StartedAt: 2025-01-27 16:23:10 -0500 (Mon, 27 Jan 2025) EndedAt: 2025-01-27 16:24:08 -0500 (Mon, 27 Jan 2025) EllapsedTime: 58.3 seconds RetCode: 0 Status: OK