Package: HPAanalyze Version: 1.24.0 Command: /Library/Frameworks/R.framework/Resources/bin/R CMD check --install=check:HPAanalyze.install-out.txt --library=/Library/Frameworks/R.framework/Resources/library --no-vignettes --timings HPAanalyze_1.24.0.tar.gz StartedAt: 2025-01-28 21:58:48 -0500 (Tue, 28 Jan 2025) EndedAt: 2025-01-28 22:00:30 -0500 (Tue, 28 Jan 2025) EllapsedTime: 101.9 seconds RetCode: 0 Status: OK CheckDir: HPAanalyze.Rcheck Warnings: 0