Package: HPAanalyze Version: 1.24.0 Command: rm -rf HPAanalyze.buildbin-libdir && mkdir HPAanalyze.buildbin-libdir && /Users/biocbuild/BBS/utils/build-universal.sh HPAanalyze_1.24.0.tar.gz /Library/Frameworks/R.framework/Resources/bin/R HPAanalyze.buildbin-libdir StartedAt: 2025-04-02 14:44:39 -0400 (Wed, 02 Apr 2025) EndedAt: 2025-04-02 14:45:33 -0400 (Wed, 02 Apr 2025) EllapsedTime: 54.1 seconds RetCode: 0 Status: OK PackageFile: HPAanalyze_1.24.0.tgz PackageFileSize: 7.207 MiB