Package: HMMcopy Version: 1.48.0 Command: /home/biocbuild/R/R/bin/R CMD INSTALL HMMcopy StartedAt: 2025-01-30 20:07:02 -0000 (Thu, 30 Jan 2025) EndedAt: 2025-01-30 20:07:27 -0000 (Thu, 30 Jan 2025) EllapsedTime: 24.6 seconds RetCode: 0 Status: OK