Package: HMMcopy Version: 1.48.0 Command: chmod a+r HMMcopy -R && F:\biocbuild\bbs-3.20-bioc\R\bin\R.exe CMD build --keep-empty-dirs --no-resave-data HMMcopy StartedAt: 2025-03-31 19:32:49 -0400 (Mon, 31 Mar 2025) EndedAt: 2025-03-31 19:33:46 -0400 (Mon, 31 Mar 2025) EllapsedTime: 57.2 seconds RetCode: 0 Status: OK PackageFile: HMMcopy_1.48.0.tar.gz PackageFileSize: 1.238 MiB