Package: HMMcopy Version: 1.48.0 Command: /home/biocbuild/bbs-3.20-bioc/R/bin/R CMD check --install=check:HMMcopy.install-out.txt --library=/home/biocbuild/bbs-3.20-bioc/R/site-library --timings HMMcopy_1.48.0.tar.gz StartedAt: 2025-03-31 23:00:10 -0400 (Mon, 31 Mar 2025) EndedAt: 2025-03-31 23:00:44 -0400 (Mon, 31 Mar 2025) EllapsedTime: 34.1 seconds RetCode: 0 Status: WARNINGS CheckDir: HMMcopy.Rcheck Warnings: 1