Package: HMMcopy Version: 1.48.0 Command: /Library/Frameworks/R.framework/Resources/bin/R CMD build --keep-empty-dirs --no-resave-data HMMcopy StartedAt: 2025-03-31 19:23:28 -0400 (Mon, 31 Mar 2025) EndedAt: 2025-03-31 19:24:20 -0400 (Mon, 31 Mar 2025) EllapsedTime: 52.4 seconds RetCode: 0 Status: OK PackageFile: HMMcopy_1.48.0.tar.gz PackageFileSize: 1.78 MiB