Package: HIREewas Version: 1.24.0 Command: /Library/Frameworks/R.framework/Resources/bin/R CMD build --keep-empty-dirs --no-resave-data HIREewas StartedAt: 2025-02-10 19:35:21 -0500 (Mon, 10 Feb 2025) EndedAt: 2025-02-10 19:37:52 -0500 (Mon, 10 Feb 2025) EllapsedTime: 150.8 seconds RetCode: 0 Status: OK PackageFile: HIREewas_1.24.0.tar.gz PackageFileSize: 265.6 KiB