Package: HIPPO Version: 1.18.0 Command: /home/biocbuild/R/R/bin/R CMD build --keep-empty-dirs --no-resave-data HIPPO StartedAt: 2025-01-31 00:18:15 -0000 (Fri, 31 Jan 2025) EndedAt: 2025-01-31 00:19:04 -0000 (Fri, 31 Jan 2025) EllapsedTime: 49.0 seconds RetCode: 0 Status: OK PackageFile: HIPPO_1.18.0.tar.gz PackageFileSize: 537.2 KiB