Package: HIPPO Version: 1.18.0 Command: rm -rf HIPPO.buildbin-libdir && mkdir HIPPO.buildbin-libdir && /Users/biocbuild/BBS/utils/build-universal.sh HIPPO_1.18.0.tar.gz /Library/Frameworks/R.framework/Resources/bin/R HIPPO.buildbin-libdir StartedAt: 2025-01-28 13:24:13 -0500 (Tue, 28 Jan 2025) EndedAt: 2025-01-28 13:25:34 -0500 (Tue, 28 Jan 2025) EllapsedTime: 81.0 seconds RetCode: 0 Status: OK PackageFile: HIPPO_1.18.0.tgz PackageFileSize: 1.006 MiB