Package: HIPPO Version: 1.18.0 Command: /Library/Frameworks/R.framework/Resources/bin/R CMD check --install=check:HIPPO.install-out.txt --library=/Library/Frameworks/R.framework/Resources/library --no-vignettes --timings HIPPO_1.18.0.tar.gz StartedAt: 2024-11-09 04:33:42 -0500 (Sat, 09 Nov 2024) EndedAt: 2024-11-09 04:38:27 -0500 (Sat, 09 Nov 2024) EllapsedTime: 285.8 seconds RetCode: 0 Status: OK CheckDir: HIPPO.Rcheck Warnings: 0