Package: HIPPO Version: 1.18.0 Command: /Library/Frameworks/R.framework/Resources/bin/R CMD INSTALL HIPPO StartedAt: 2025-01-27 15:38:41 -0500 (Mon, 27 Jan 2025) EndedAt: 2025-01-27 15:39:11 -0500 (Mon, 27 Jan 2025) EllapsedTime: 30.1 seconds RetCode: 0 Status: OK