Package: HIBAG Version: 1.42.0 Command: /home/biocbuild/R/R/bin/R CMD INSTALL HIBAG StartedAt: 2025-02-03 20:21:20 -0000 (Mon, 03 Feb 2025) EndedAt: 2025-02-03 20:21:51 -0000 (Mon, 03 Feb 2025) EllapsedTime: 31.5 seconds RetCode: 0 Status: OK