Package: HIBAG Version: 1.42.0 Command: /home/biocbuild/R/R/bin/R CMD check --install=check:HIBAG.install-out.txt --library=/home/biocbuild/R/R/site-library --no-vignettes --timings HIBAG_1.42.0.tar.gz StartedAt: 2025-02-04 07:47:46 -0000 (Tue, 04 Feb 2025) EndedAt: 2025-02-04 07:48:51 -0000 (Tue, 04 Feb 2025) EllapsedTime: 65.0 seconds RetCode: 1 Status: ERROR CheckDir: HIBAG.Rcheck Warnings: NA