Package: HIBAG Version: 1.42.0 Command: /home/biocbuild/R/R/bin/R CMD build --keep-empty-dirs --no-resave-data HIBAG StartedAt: 2025-01-28 00:55:07 -0000 (Tue, 28 Jan 2025) EndedAt: 2025-01-28 00:55:59 -0000 (Tue, 28 Jan 2025) EllapsedTime: 51.0 seconds RetCode: 0 Status: OK PackageFile: HIBAG_1.42.0.tar.gz PackageFileSize: 1.457 MiB