Package: HIBAG Version: 1.42.0 Command: /Library/Frameworks/R.framework/Resources/bin/R CMD INSTALL HIBAG StartedAt: 2025-03-31 15:03:48 -0400 (Mon, 31 Mar 2025) EndedAt: 2025-03-31 15:04:44 -0400 (Mon, 31 Mar 2025) EllapsedTime: 55.9 seconds RetCode: 0 Status: OK