Package: HIBAG Version: 1.42.0 Command: /Library/Frameworks/R.framework/Resources/bin/R CMD build --keep-empty-dirs --no-resave-data HIBAG StartedAt: 2025-03-31 19:19:32 -0400 (Mon, 31 Mar 2025) EndedAt: 2025-03-31 19:20:58 -0400 (Mon, 31 Mar 2025) EllapsedTime: 86.5 seconds RetCode: 0 Status: OK PackageFile: HIBAG_1.42.0.tar.gz PackageFileSize: 1.813 MiB