Package: HIBAG Version: 1.42.0 Command: /Library/Frameworks/R.framework/Resources/bin/R CMD INSTALL HIBAG StartedAt: 2025-01-27 15:03:21 -0500 (Mon, 27 Jan 2025) EndedAt: 2025-01-27 15:03:40 -0500 (Mon, 27 Jan 2025) EllapsedTime: 19.1 seconds RetCode: 0 Status: OK