Package: HIBAG Version: 1.42.0 Command: /Library/Frameworks/R.framework/Resources/bin/R CMD build --keep-empty-dirs --no-resave-data HIBAG StartedAt: 2025-01-28 01:20:16 -0500 (Tue, 28 Jan 2025) EndedAt: 2025-01-28 01:21:00 -0500 (Tue, 28 Jan 2025) EllapsedTime: 44.3 seconds RetCode: 0 Status: OK PackageFile: HIBAG_1.42.0.tar.gz PackageFileSize: 1.813 MiB