Package: HIBAG Version: 1.42.0 Command: rm -rf HIBAG.buildbin-libdir && mkdir HIBAG.buildbin-libdir && /Users/biocbuild/BBS/utils/build-universal.sh HIBAG_1.42.0.tar.gz /Library/Frameworks/R.framework/Resources/bin/R HIBAG.buildbin-libdir StartedAt: 2025-04-02 14:42:33 -0400 (Wed, 02 Apr 2025) EndedAt: 2025-04-02 14:42:57 -0400 (Wed, 02 Apr 2025) EllapsedTime: 23.8 seconds RetCode: 0 Status: OK PackageFile: HIBAG_1.42.0.tgz PackageFileSize: 2.178 MiB