Package: HERON Version: 1.4.0 Command: /home/biocbuild/R/R/bin/R CMD INSTALL HERON StartedAt: 2025-01-27 21:50:57 -0000 (Mon, 27 Jan 2025) EndedAt: 2025-01-27 21:50:58 -0000 (Mon, 27 Jan 2025) EllapsedTime: 1.2 seconds RetCode: 1 Status: ERROR