Package: HEM Version: 1.78.0 Command: F:\biocbuild\bbs-3.20-bioc\R\bin\R.exe CMD INSTALL HEM StartedAt: 2025-01-27 15:31:23 -0500 (Mon, 27 Jan 2025) EndedAt: 2025-01-27 15:31:39 -0500 (Mon, 27 Jan 2025) EllapsedTime: 15.5 seconds RetCode: 0 Status: OK