Package: HELP Version: 1.64.0 Command: F:\biocbuild\bbs-3.20-bioc\R\bin\R.exe CMD INSTALL HELP StartedAt: 2025-02-03 15:36:25 -0500 (Mon, 03 Feb 2025) EndedAt: 2025-02-03 15:36:48 -0500 (Mon, 03 Feb 2025) EllapsedTime: 23.8 seconds RetCode: 0 Status: OK