Package: HELP Version: 1.64.0 Command: rm -rf HELP.buildbin-libdir && mkdir HELP.buildbin-libdir && F:\biocbuild\bbs-3.20-bioc\R\bin\R.exe CMD INSTALL --build --library=HELP.buildbin-libdir HELP_1.64.0.tar.gz StartedAt: 2025-02-04 08:41:07 -0500 (Tue, 04 Feb 2025) EndedAt: 2025-02-04 08:41:28 -0500 (Tue, 04 Feb 2025) EllapsedTime: 20.8 seconds RetCode: 0 Status: OK PackageFile: HELP_1.64.0.zip PackageFileSize: 1.018 MiB