Package: HELP Version: 1.64.0 Command: /home/biocbuild/bbs-3.20-bioc/R/bin/R CMD INSTALL HELP StartedAt: 2025-01-27 15:56:47 -0500 (Mon, 27 Jan 2025) EndedAt: 2025-01-27 15:56:51 -0500 (Mon, 27 Jan 2025) EllapsedTime: 4.1 seconds RetCode: 0 Status: OK