Package: HELP Version: 1.64.0 Command: /Library/Frameworks/R.framework/Resources/bin/R CMD build --keep-empty-dirs --no-resave-data HELP StartedAt: 2025-01-28 01:18:00 -0500 (Tue, 28 Jan 2025) EndedAt: 2025-01-28 01:18:18 -0500 (Tue, 28 Jan 2025) EllapsedTime: 18.3 seconds RetCode: 0 Status: OK PackageFile: HELP_1.64.0.tar.gz PackageFileSize: 996.6 KiB