Package: HDTD Version: 1.40.0 Command: /home/biocbuild/R/R/bin/R CMD INSTALL HDTD StartedAt: 2025-01-27 21:04:12 -0000 (Mon, 27 Jan 2025) EndedAt: 2025-01-27 21:04:53 -0000 (Mon, 27 Jan 2025) EllapsedTime: 41.6 seconds RetCode: 0 Status: OK