Package: HDTD Version: 1.40.0 Command: F:\biocbuild\bbs-3.20-bioc\R\bin\R.exe CMD INSTALL HDTD StartedAt: 2025-01-27 15:28:05 -0500 (Mon, 27 Jan 2025) EndedAt: 2025-01-27 15:30:02 -0500 (Mon, 27 Jan 2025) EllapsedTime: 116.7 seconds RetCode: 0 Status: OK