Package: HDTD Version: 1.40.0 Command: /Library/Frameworks/R.framework/Resources/bin/R CMD build --keep-empty-dirs --no-resave-data HDTD StartedAt: 2025-02-03 19:32:16 -0500 (Mon, 03 Feb 2025) EndedAt: 2025-02-03 19:33:13 -0500 (Mon, 03 Feb 2025) EllapsedTime: 57.2 seconds RetCode: 0 Status: OK PackageFile: HDTD_1.40.0.tar.gz PackageFileSize: 162.8 KiB