Package: HDTD Version: 1.40.0 Command: /Library/Frameworks/R.framework/Resources/bin/R CMD INSTALL HDTD StartedAt: 2025-01-27 15:07:38 -0500 (Mon, 27 Jan 2025) EndedAt: 2025-01-27 15:08:12 -0500 (Mon, 27 Jan 2025) EllapsedTime: 33.9 seconds RetCode: 0 Status: OK