Package: HDTD Version: 1.40.0 Command: rm -rf HDTD.buildbin-libdir && mkdir HDTD.buildbin-libdir && /Users/biocbuild/BBS/utils/build-universal.sh HDTD_1.40.0.tar.gz /Library/Frameworks/R.framework/Resources/bin/R HDTD.buildbin-libdir StartedAt: 2025-02-05 16:11:08 -0500 (Wed, 05 Feb 2025) EndedAt: 2025-02-05 16:11:30 -0500 (Wed, 05 Feb 2025) EllapsedTime: 22.8 seconds RetCode: 0 Status: OK PackageFile: HDTD_1.40.0.tgz PackageFileSize: 301.8 KiB