Package: HDF5Array Version: 1.34.0 Command: /home/biocbuild/bbs-3.20-bioc/R/bin/R CMD INSTALL HDF5Array StartedAt: 2025-01-30 15:09:52 -0500 (Thu, 30 Jan 2025) EndedAt: 2025-01-30 15:10:16 -0500 (Thu, 30 Jan 2025) EllapsedTime: 24.1 seconds RetCode: 0 Status: OK