Package: HDF5Array Version: 1.34.0 Command: rm -rf HDF5Array.buildbin-libdir && mkdir HDF5Array.buildbin-libdir && /Users/biocbuild/BBS/utils/build-universal.sh HDF5Array_1.34.0.tar.gz /Library/Frameworks/R.framework/Resources/bin/R HDF5Array.buildbin-libdir StartedAt: 2025-04-01 12:01:53 -0400 (Tue, 01 Apr 2025) EndedAt: 2025-04-01 12:02:57 -0400 (Tue, 01 Apr 2025) EllapsedTime: 63.3 seconds RetCode: 0 Status: OK PackageFile: HDF5Array_1.34.0.tgz PackageFileSize: 11.51 MiB