Package: HDF5Array Version: 1.34.0 Command: rm -rf HDF5Array.buildbin-libdir && mkdir HDF5Array.buildbin-libdir && /Users/biocbuild/BBS/utils/build-universal.sh HDF5Array_1.34.0.tar.gz /Library/Frameworks/R.framework/Resources/bin/R HDF5Array.buildbin-libdir StartedAt: 2025-01-29 14:58:33 -0500 (Wed, 29 Jan 2025) EndedAt: 2025-01-29 14:59:08 -0500 (Wed, 29 Jan 2025) EllapsedTime: 35.2 seconds RetCode: 0 Status: OK PackageFile: HDF5Array_1.34.0.tgz PackageFileSize: 10.29 MiB