Package: Guitar Version: 2.22.0 Command: rm -rf Guitar.buildbin-libdir && mkdir Guitar.buildbin-libdir && F:\biocbuild\bbs-3.20-bioc\R\bin\R.exe CMD INSTALL --build --library=Guitar.buildbin-libdir Guitar_2.22.0.tar.gz StartedAt: 2025-02-04 08:40:12 -0500 (Tue, 04 Feb 2025) EndedAt: 2025-02-04 08:40:55 -0500 (Tue, 04 Feb 2025) EllapsedTime: 43.2 seconds RetCode: 0 Status: OK PackageFile: Guitar_2.22.0.zip PackageFileSize: 3.71 MiB