Package: Guitar Version: 2.22.0 Command: /home/biocbuild/bbs-3.20-bioc/R/bin/R CMD build --keep-empty-dirs --no-resave-data --md5 Guitar StartedAt: 2025-03-31 17:33:06 -0400 (Mon, 31 Mar 2025) EndedAt: 2025-03-31 17:43:19 -0400 (Mon, 31 Mar 2025) EllapsedTime: 613.8 seconds RetCode: 0 Status: OK PackageFile: Guitar_2.22.0.tar.gz PackageFileSize: 3.72 MiB