Package: GreyListChIP Version: 1.38.0 Command: /home/biocbuild/R/R/bin/R CMD INSTALL GreyListChIP StartedAt: 2025-03-31 20:32:37 -0000 (Mon, 31 Mar 2025) EndedAt: 2025-03-31 20:33:30 -0000 (Mon, 31 Mar 2025) EllapsedTime: 53.7 seconds RetCode: 0 Status: OK