Package: GreyListChIP Version: 1.38.0 Command: /Library/Frameworks/R.framework/Resources/bin/R CMD check --install=check:GreyListChIP.install-out.txt --library=/Library/Frameworks/R.framework/Resources/library --no-vignettes --timings GreyListChIP_1.38.0.tar.gz StartedAt: 2025-04-01 21:13:31 -0400 (Tue, 01 Apr 2025) EndedAt: 2025-04-01 21:18:00 -0400 (Tue, 01 Apr 2025) EllapsedTime: 269.6 seconds RetCode: 0 Status: OK CheckDir: GreyListChIP.Rcheck Warnings: 0