Package: GraphPAC Version: 1.48.0 Command: /home/biocbuild/R/R/bin/R CMD INSTALL GraphPAC StartedAt: 2025-02-03 21:09:59 -0000 (Mon, 03 Feb 2025) EndedAt: 2025-02-03 21:10:17 -0000 (Mon, 03 Feb 2025) EllapsedTime: 18.0 seconds RetCode: 0 Status: OK