Package: GraphPAC Version: 1.48.0 Command: chmod a+r GraphPAC -R && F:\biocbuild\bbs-3.20-bioc\R\bin\R.exe CMD build --keep-empty-dirs --no-resave-data GraphPAC StartedAt: 2025-01-27 19:21:58 -0500 (Mon, 27 Jan 2025) EndedAt: 2025-01-27 19:23:32 -0500 (Mon, 27 Jan 2025) EllapsedTime: 94.0 seconds RetCode: 0 Status: OK PackageFile: GraphPAC_1.48.0.tar.gz PackageFileSize: 542.8 KiB