Package: GraphPAC Version: 1.48.0 Command: /Library/Frameworks/R.framework/Resources/bin/R CMD check --install=check:GraphPAC.install-out.txt --library=/Library/Frameworks/R.framework/Resources/library --no-vignettes --timings GraphPAC_1.48.0.tar.gz StartedAt: 2025-02-04 04:39:45 -0500 (Tue, 04 Feb 2025) EndedAt: 2025-02-04 04:41:54 -0500 (Tue, 04 Feb 2025) EllapsedTime: 129.6 seconds RetCode: 0 Status: OK CheckDir: GraphPAC.Rcheck Warnings: 0