Package: GraphPAC Version: 1.48.0 Command: /Library/Frameworks/R.framework/Resources/bin/R CMD build --keep-empty-dirs --no-resave-data GraphPAC StartedAt: 2025-02-03 19:23:30 -0500 (Mon, 03 Feb 2025) EndedAt: 2025-02-03 19:28:00 -0500 (Mon, 03 Feb 2025) EllapsedTime: 269.2 seconds RetCode: 0 Status: OK PackageFile: GraphPAC_1.48.0.tar.gz PackageFileSize: 706 KiB