Package: GraphPAC Version: 1.48.0 Command: rm -rf GraphPAC.buildbin-libdir && mkdir GraphPAC.buildbin-libdir && /Users/biocbuild/BBS/utils/build-universal.sh GraphPAC_1.48.0.tar.gz /Library/Frameworks/R.framework/Resources/bin/R GraphPAC.buildbin-libdir StartedAt: 2025-02-04 13:06:25 -0500 (Tue, 04 Feb 2025) EndedAt: 2025-02-04 13:07:04 -0500 (Tue, 04 Feb 2025) EllapsedTime: 39.3 seconds RetCode: 0 Status: OK PackageFile: GraphPAC_1.48.0.tgz PackageFileSize: 521.6 KiB