Package: GraphPAC Version: 1.48.0 Command: /Library/Frameworks/R.framework/Resources/bin/R CMD INSTALL GraphPAC StartedAt: 2025-01-27 17:33:27 -0500 (Mon, 27 Jan 2025) EndedAt: 2025-01-27 17:33:44 -0500 (Mon, 27 Jan 2025) EllapsedTime: 16.5 seconds RetCode: 0 Status: OK