Package: GraphPAC Version: 1.48.0 Command: rm -rf GraphPAC.buildbin-libdir && mkdir GraphPAC.buildbin-libdir && /Users/biocbuild/BBS/utils/build-universal.sh GraphPAC_1.48.0.tar.gz /Library/Frameworks/R.framework/Resources/bin/R GraphPAC.buildbin-libdir StartedAt: 2025-01-29 14:55:24 -0500 (Wed, 29 Jan 2025) EndedAt: 2025-01-29 14:55:43 -0500 (Wed, 29 Jan 2025) EllapsedTime: 19.1 seconds RetCode: 0 Status: OK PackageFile: GraphPAC_1.48.0.tgz PackageFileSize: 521.6 KiB