Package: GraphAlignment Version: 1.70.0 Command: /Library/Frameworks/R.framework/Resources/bin/R CMD build --keep-empty-dirs --no-resave-data GraphAlignment StartedAt: 2025-04-01 00:45:22 -0400 (Tue, 01 Apr 2025) EndedAt: 2025-04-01 00:45:36 -0400 (Tue, 01 Apr 2025) EllapsedTime: 13.8 seconds RetCode: 0 Status: OK PackageFile: GraphAlignment_1.70.0.tar.gz PackageFileSize: 591.7 KiB