Package: GraphAT Version: 1.78.0 Command: /home/biocbuild/bbs-3.20-bioc/R/bin/R CMD INSTALL GraphAT StartedAt: 2025-01-27 16:39:01 -0500 (Mon, 27 Jan 2025) EndedAt: 2025-01-27 16:39:10 -0500 (Mon, 27 Jan 2025) EllapsedTime: 8.8 seconds RetCode: 0 Status: OK