Package: GraphAT Version: 1.78.0 Command: /home/biocbuild/bbs-3.20-bioc/R/bin/R CMD check --install=check:GraphAT.install-out.txt --library=/home/biocbuild/bbs-3.20-bioc/R/site-library --timings GraphAT_1.78.0.tar.gz StartedAt: 2025-02-03 22:58:17 -0500 (Mon, 03 Feb 2025) EndedAt: 2025-02-03 22:59:12 -0500 (Mon, 03 Feb 2025) EllapsedTime: 55.1 seconds RetCode: 0 Status: OK CheckDir: GraphAT.Rcheck Warnings: 0