Package: GraphAT Version: 1.78.0 Command: /Library/Frameworks/R.framework/Resources/bin/R CMD build --keep-empty-dirs --no-resave-data GraphAT StartedAt: 2025-03-31 19:08:05 -0400 (Mon, 31 Mar 2025) EndedAt: 2025-03-31 19:08:08 -0400 (Mon, 31 Mar 2025) EllapsedTime: 3.3 seconds RetCode: 0 Status: OK PackageFile: GraphAT_1.78.0.tar.gz PackageFileSize: 1.884 MiB