Package: GrafGen Version: 1.2.0 Command: F:\biocbuild\bbs-3.20-bioc\R\bin\R.exe CMD INSTALL GrafGen StartedAt: 2025-03-31 17:01:10 -0400 (Mon, 31 Mar 2025) EndedAt: 2025-03-31 17:01:54 -0400 (Mon, 31 Mar 2025) EllapsedTime: 44.6 seconds RetCode: 0 Status: OK